BEGIN:VCALENDAR
VERSION:2.0
PRODID:-//General Lew Wallace Study &amp; Museum - ECPv6.15.20//NONSGML v1.0//EN
CALSCALE:GREGORIAN
METHOD:PUBLISH
X-WR-CALNAME:General Lew Wallace Study &amp; Museum
X-ORIGINAL-URL:https://www.ben-hur.com
X-WR-CALDESC:Events for General Lew Wallace Study &amp; Museum
REFRESH-INTERVAL;VALUE=DURATION:PT1H
X-Robots-Tag:noindex
X-PUBLISHED-TTL:PT1H
BEGIN:VTIMEZONE
TZID:America/Indiana/Indianapolis
BEGIN:DAYLIGHT
TZOFFSETFROM:-0500
TZOFFSETTO:-0400
TZNAME:EDT
DTSTART:20230312T070000
END:DAYLIGHT
BEGIN:STANDARD
TZOFFSETFROM:-0400
TZOFFSETTO:-0500
TZNAME:EST
DTSTART:20231105T060000
END:STANDARD
BEGIN:DAYLIGHT
TZOFFSETFROM:-0500
TZOFFSETTO:-0400
TZNAME:EDT
DTSTART:20240310T070000
END:DAYLIGHT
BEGIN:STANDARD
TZOFFSETFROM:-0400
TZOFFSETTO:-0500
TZNAME:EST
DTSTART:20241103T060000
END:STANDARD
BEGIN:DAYLIGHT
TZOFFSETFROM:-0500
TZOFFSETTO:-0400
TZNAME:EDT
DTSTART:20250309T070000
END:DAYLIGHT
BEGIN:STANDARD
TZOFFSETFROM:-0400
TZOFFSETTO:-0500
TZNAME:EST
DTSTART:20251102T060000
END:STANDARD
BEGIN:DAYLIGHT
TZOFFSETFROM:-0500
TZOFFSETTO:-0400
TZNAME:EDT
DTSTART:20260308T070000
END:DAYLIGHT
BEGIN:STANDARD
TZOFFSETFROM:-0400
TZOFFSETTO:-0500
TZNAME:EST
DTSTART:20261101T060000
END:STANDARD
BEGIN:DAYLIGHT
TZOFFSETFROM:-0500
TZOFFSETTO:-0400
TZNAME:EDT
DTSTART:20270314T070000
END:DAYLIGHT
BEGIN:STANDARD
TZOFFSETFROM:-0400
TZOFFSETTO:-0500
TZNAME:EST
DTSTART:20271107T060000
END:STANDARD
END:VTIMEZONE
BEGIN:VEVENT
DTSTART;TZID=America/Indiana/Indianapolis:20240321T190000
DTEND;TZID=America/Indiana/Indianapolis:20240321T203000
DTSTAMP:20260423T140617
CREATED:20240209T180002Z
LAST-MODIFIED:20240209T204353Z
UID:10000069-1711047600-1711053000@www.ben-hur.com
SUMMARY:Dr. Howard Miller Lecture Series - Reconstructing Henry S. Lane: Redefining Political Legacy Amidst Reconstruction Ambiguity by Owen Bennett
DESCRIPTION:  \nDr. Howard Miller Lecture Series at the General Lew Wallace Study & Museum presents… \nReconstructing Henry S. Lane: Redefining Political Legacy Amidst Reconstruction Ambiguity. \nOwen Bennett\, Assistant Director of the Montgomery County Historical Society\, will give a lecture on the vague and misleading historiography of Henry S. Lane’s role during the era of reconstruction following the Civil War. Lane’s active participation therein has been largely disregarded in previous narratives. Additionally\, Owen will discuss the enduring political legacy of Lane and the policies he was involved in.
URL:https://www.ben-hur.com/event/dr-howard-miller-lecture-series-reconstructing-henry-s-lane-redefining-political-legacy-amidst-reconstruction-ambiguity/
LOCATION:General Lew Wallace Study & Museum\, 200 Wallace Ave.\, Crawfordsville\, IN\, 47933\, United States
CATEGORIES:Dr. Miller Lecture Series
ATTACH;FMTTYPE=image/png:https://www.ben-hur.com/wp-content/uploads/2024/02/Owen-Bennett-Lecture.png
ORGANIZER;CN="Thomas Meeks":MAILTO:tmeeks@ben-hur.com
END:VEVENT
BEGIN:VEVENT
DTSTART;TZID=America/Indiana/Indianapolis:20240425T190000
DTEND;TZID=America/Indiana/Indianapolis:20240425T203000
DTSTAMP:20260423T140617
CREATED:20240209T201608Z
LAST-MODIFIED:20240209T204324Z
UID:10000070-1714071600-1714077000@www.ben-hur.com
SUMMARY:Dr. Howard Miller Lecture Series - The Man Who Saved Cincinnati by Peter Bronson
DESCRIPTION:Dr. Howard Miller Lecture Series at the General Lew Wallace Study & Museum presents… \nThe Man Who Saved Cincinnati \nPeter Bronson is a newsman\, editor\, magazine writer and author. He has written eight books\, including The Man Who Saved Cincinnati (2023)\, Not in Our Town (2022)\, and Forbidden Fruit (2020). He was an editor and columnist for The Cincinnati Enquirer for nearly 20 years. Bronson will discuss Lew Wallace’s role in defending the Queen city against Confederate attack\, the first African Americans employed in defense of the Union known as the Black Brigade\, the Ohio Squirrel Hunter volunteers\, and much more.
URL:https://www.ben-hur.com/event/dr-howard-miller-lecture-series-the-man-who-saved-cincinnati-by-peter-bronson/
LOCATION:General Lew Wallace Study & Museum\, 200 Wallace Ave.\, Crawfordsville\, IN\, 47933\, United States
CATEGORIES:Dr. Miller Lecture Series
ATTACH;FMTTYPE=image/png:https://www.ben-hur.com/wp-content/uploads/2024/02/Peter-Bronson-Lecture.png
ORGANIZER;CN="Thomas Meeks":MAILTO:tmeeks@ben-hur.com
END:VEVENT
BEGIN:VEVENT
DTSTART;TZID=America/Indiana/Indianapolis:20240516T190000
DTEND;TZID=America/Indiana/Indianapolis:20240516T203000
DTSTAMP:20260423T140617
CREATED:20240221T153913Z
LAST-MODIFIED:20240221T154010Z
UID:10000076-1715886000-1715891400@www.ben-hur.com
SUMMARY:Dr. Howard Miller Lecture Series - The USCT from Montgomery County
DESCRIPTION:Dr Howard Miller Lecture Series presents…The United States Colored Troops from Montgomery County by Shannon Sullivan Hudson. A science teacher by day and a history buff by night\, Shannon Hudson is the author of Abolitionists of the Underground Railroad: Legends from Montgomery County\, Indiana. Shannon will speak on the United States Colored Troops from Montgomery County\, Indiana including who they were\, where they served\, and the lives they lived after the war.
URL:https://www.ben-hur.com/event/dr-howard-miller-lecture-series-the-usct-from-montgomery-county/
LOCATION:General Lew Wallace Study & Museum\, 200 Wallace Ave.\, Crawfordsville\, IN\, 47933\, United States
CATEGORIES:Dr. Miller Lecture Series
ORGANIZER;CN="Larry Paarlberg":MAILTO:lpaarlberg@ben-hur.com
END:VEVENT
BEGIN:VEVENT
DTSTART;TZID=America/Indiana/Indianapolis:20250508T190000
DTEND;TZID=America/Indiana/Indianapolis:20250508T203000
DTSTAMP:20260423T140617
CREATED:20250310T150329Z
LAST-MODIFIED:20250324T192601Z
UID:10000084-1746730800-1746736200@www.ben-hur.com
SUMMARY:Dr. Howard Miller Lecture Series - Ben-Hur Chariots by Dr. Bela Sandor
DESCRIPTION:
URL:https://www.ben-hur.com/event/dr-howard-miller-lecture-series-ben-hur-chariots-by-dr-bela-sandor/
LOCATION:General Lew Wallace Study & Museum\, 200 Wallace Ave.\, Crawfordsville\, IN\, 47933\, United States
CATEGORIES:Dr. Miller Lecture Series
ORGANIZER;CN="Larry Paarlberg":MAILTO:lpaarlberg@ben-hur.com
END:VEVENT
BEGIN:VEVENT
DTSTART;TZID=America/Indiana/Indianapolis:20250520T190000
DTEND;TZID=America/Indiana/Indianapolis:20250520T203000
DTSTAMP:20260423T140617
CREATED:20250324T193243Z
LAST-MODIFIED:20250324T193243Z
UID:10000086-1747767600-1747773000@www.ben-hur.com
SUMMARY:Dr. Howard Miller Lecture Series - June Mathis: A Silent Film Visionary by Dr. Thomas J. Slater
DESCRIPTION:
URL:https://www.ben-hur.com/event/dr-howard-miller-lecture-series-june-mathis-a-silent-film-visionary-by-dr-thomas-j-slater/
LOCATION:General Lew Wallace Study & Museum\, 200 Wallace Ave.\, Crawfordsville\, IN\, 47933\, United States
CATEGORIES:Dr. Miller Lecture Series
ORGANIZER;CN="Larry Paarlberg":MAILTO:lpaarlberg@ben-hur.com
END:VEVENT
BEGIN:VEVENT
DTSTART;TZID=America/Indiana/Indianapolis:20260312T190000
DTEND;TZID=America/Indiana/Indianapolis:20260312T203000
DTSTAMP:20260423T140617
CREATED:20260203T162931Z
LAST-MODIFIED:20260203T164103Z
UID:10000093-1773342000-1773347400@www.ben-hur.com
SUMMARY:Dr. Howard Miller Lecture Series - "The Last Adieu" with Ryan L. Cole
DESCRIPTION:
URL:https://www.ben-hur.com/event/dr-howard-miller-lecture-series-the-last-adieu-with-ryan-l-cole/
LOCATION:General Lew Wallace Study & Museum\, 200 Wallace Ave.\, Crawfordsville\, IN\, 47933\, United States
CATEGORIES:Dr. Miller Lecture Series,Programming
ATTACH;FMTTYPE=image/jpeg:https://www.ben-hur.com/wp-content/uploads/2026/02/2026-Lecture-Series-Digital-Flyer-1.jpg
ORGANIZER;CN="Thomas Meeks":MAILTO:tmeeks@ben-hur.com
END:VEVENT
BEGIN:VEVENT
DTSTART;TZID=America/Indiana/Indianapolis:20260611T190000
DTEND;TZID=America/Indiana/Indianapolis:20260611T203000
DTSTAMP:20260423T140617
CREATED:20260421T140250Z
LAST-MODIFIED:20260421T140409Z
UID:10000098-1781204400-1781209800@www.ben-hur.com
SUMMARY:Dr. Howard Miller Lecture Series - Gail Stephens on General Lew Wallace & the Civil War
DESCRIPTION:  \n 
URL:https://www.ben-hur.com/event/dr-howard-miller-lecture-series-gail-stephens-on-general-lew-wallace-the-civil-war/
LOCATION:General Lew Wallace Study & Museum\, 200 Wallace Ave.\, Crawfordsville\, IN\, 47933\, United States
CATEGORIES:Dr. Miller Lecture Series,Programming
ATTACH;FMTTYPE=image/jpeg:https://www.ben-hur.com/wp-content/uploads/2026/04/Gail-Stephens-Lecture-Digital-Flyer-2026.jpg
ORGANIZER;CN="Larry Paarlberg":MAILTO:lpaarlberg@ben-hur.com
END:VEVENT
END:VCALENDAR