BEGIN:VCALENDAR
VERSION:2.0
PRODID:-//General Lew Wallace Study &amp; Museum - ECPv6.15.20//NONSGML v1.0//EN
CALSCALE:GREGORIAN
METHOD:PUBLISH
X-WR-CALNAME:General Lew Wallace Study &amp; Museum
X-ORIGINAL-URL:https://www.ben-hur.com
X-WR-CALDESC:Events for General Lew Wallace Study &amp; Museum
REFRESH-INTERVAL;VALUE=DURATION:PT1H
X-Robots-Tag:noindex
X-PUBLISHED-TTL:PT1H
BEGIN:VTIMEZONE
TZID:America/Indiana/Indianapolis
BEGIN:DAYLIGHT
TZOFFSETFROM:-0500
TZOFFSETTO:-0400
TZNAME:EDT
DTSTART:20200308T070000
END:DAYLIGHT
BEGIN:STANDARD
TZOFFSETFROM:-0400
TZOFFSETTO:-0500
TZNAME:EST
DTSTART:20201101T060000
END:STANDARD
BEGIN:DAYLIGHT
TZOFFSETFROM:-0500
TZOFFSETTO:-0400
TZNAME:EDT
DTSTART:20210314T070000
END:DAYLIGHT
BEGIN:STANDARD
TZOFFSETFROM:-0400
TZOFFSETTO:-0500
TZNAME:EST
DTSTART:20211107T060000
END:STANDARD
BEGIN:DAYLIGHT
TZOFFSETFROM:-0500
TZOFFSETTO:-0400
TZNAME:EDT
DTSTART:20220313T070000
END:DAYLIGHT
BEGIN:STANDARD
TZOFFSETFROM:-0400
TZOFFSETTO:-0500
TZNAME:EST
DTSTART:20221106T060000
END:STANDARD
END:VTIMEZONE
BEGIN:VEVENT
DTSTART;TZID=America/Indiana/Indianapolis:20210930T190000
DTEND;TZID=America/Indiana/Indianapolis:20210930T200000
DTSTAMP:20260425T084921
CREATED:20210810T140939Z
LAST-MODIFIED:20210914T174047Z
UID:10000037-1633028400-1633032000@www.ben-hur.com
SUMMARY:“The Conservation of Paintings: Historical and Technical Discoveries”
DESCRIPTION:“The Conservation of Paintings: Historical and Technical Discoveries” \nPresented by Painting Conservator & Art Historian Barry Bauman \nHosted by General Lew Wallace Study and Museum \nFree and open to the public \nIs it true that a painting conservator is also a detective? According to acclaimed conservator and art historian Barry Bauman\, every painting has its secrets. During his 46 years of experience treating and analyzing damaged paintings\, he has uncovered many of them—lost signatures\, hidden dates\, and entire paintings hidden beneath other works. Two of his discoveries were so phenomenal they landed on the front page of The New York Times. \nThose who attend his upcoming presentation “The Conservation of Paintings: Historical and Technical Discoveries\,” on Thursday\, September 30th\, 7:00pm\, will share in the joy of some of his most remarkable discoveries. Hosted by the General Lew Wallace Study and Museum\, this event will be held at the St. John’s Episcopal Church Fellowship Hall. It is free and open to the general public. \nBauman’s discoveries lecture has been one of his most popular\, especially for a museum or college audience\, where majors in art\, art history\, chemistry\, physics\, history\, and museum studies all overlap with conservation concerns. Most students and individuals are not aware of the conservation field and the rewards it has to offer. At the beginning of his career\, Barry Bauman worked for eleven years at the Art Institute of Chicago\, departing as the Associate Conservator of Paintings. He then founded and directed the Chicago Conservation Center\, which for 20 years\, was the largest conservation facility in the nation. \nIn 2004\, Bauman left the private sector to establish Bauman Conservation\, America’s first conservation laboratory dedicated to offering complimentary services to museums and nonprofit organizations. When he closed Bauman Conservation in 2018\, it was estimated he had contributed more than $6\,000\,000 in conservation services to museums and nonprofits. In August\, 2019\, Barry Bauman opened Conservation Ventures (ConservationVentures.org)\, a company that focuses on presentations and CAP grants to assist museums with recommendations and priorities for long-range collection care. Bauman is an Elected Fellow of the American Institute for Conservation.
URL:https://www.ben-hur.com/event/the-conservation-of-paintings-historical-and-technical-discoveries/
LOCATION:St. John’s Episcopal Church Fellowship Hall\, 212 S Green St\, Crawfordsville\, 47933
CATEGORIES:Dr. Miller Lecture Series
ORGANIZER;CN="Larry Paarlberg":MAILTO:lpaarlberg@ben-hur.com
END:VEVENT
END:VCALENDAR