BEGIN:VCALENDAR
VERSION:2.0
PRODID:-//General Lew Wallace Study &amp; Museum - ECPv6.15.20//NONSGML v1.0//EN
CALSCALE:GREGORIAN
METHOD:PUBLISH
X-WR-CALNAME:General Lew Wallace Study &amp; Museum
X-ORIGINAL-URL:https://www.ben-hur.com
X-WR-CALDESC:Events for General Lew Wallace Study &amp; Museum
REFRESH-INTERVAL;VALUE=DURATION:PT1H
X-Robots-Tag:noindex
X-PUBLISHED-TTL:PT1H
BEGIN:VTIMEZONE
TZID:America/Indiana/Indianapolis
BEGIN:DAYLIGHT
TZOFFSETFROM:-0500
TZOFFSETTO:-0400
TZNAME:EDT
DTSTART:20200308T070000
END:DAYLIGHT
BEGIN:STANDARD
TZOFFSETFROM:-0400
TZOFFSETTO:-0500
TZNAME:EST
DTSTART:20201101T060000
END:STANDARD
BEGIN:DAYLIGHT
TZOFFSETFROM:-0500
TZOFFSETTO:-0400
TZNAME:EDT
DTSTART:20210314T070000
END:DAYLIGHT
BEGIN:STANDARD
TZOFFSETFROM:-0400
TZOFFSETTO:-0500
TZNAME:EST
DTSTART:20211107T060000
END:STANDARD
BEGIN:DAYLIGHT
TZOFFSETFROM:-0500
TZOFFSETTO:-0400
TZNAME:EDT
DTSTART:20220313T070000
END:DAYLIGHT
BEGIN:STANDARD
TZOFFSETFROM:-0400
TZOFFSETTO:-0500
TZNAME:EST
DTSTART:20221106T060000
END:STANDARD
BEGIN:DAYLIGHT
TZOFFSETFROM:-0500
TZOFFSETTO:-0400
TZNAME:EDT
DTSTART:20230312T070000
END:DAYLIGHT
BEGIN:STANDARD
TZOFFSETFROM:-0400
TZOFFSETTO:-0500
TZNAME:EST
DTSTART:20231105T060000
END:STANDARD
END:VTIMEZONE
BEGIN:VEVENT
DTSTART;TZID=America/Indiana/Indianapolis:20210717T100000
DTEND;TZID=America/Indiana/Indianapolis:20210717T110000
DTSTAMP:20260421T222514
CREATED:20210305T191946Z
LAST-MODIFIED:20210715T142459Z
UID:10000044-1626516000-1626519600@www.ben-hur.com
SUMMARY:Behind the Scenes Tour - SOLD OUT
DESCRIPTION:Reservations are required. \nCost: $10 per person | $7 per person – LWSPS Member
URL:https://www.ben-hur.com/event/behind-the-scenes-tour/
LOCATION:General Lew Wallace Study & Museum\, 200 Wallace Ave.\, Crawfordsville\, IN\, 47933\, United States
CATEGORIES:Tours
ORGANIZER;CN="Amanda McGuire":MAILTO:amcguire@ben-hur.com
END:VEVENT
BEGIN:VEVENT
DTSTART;TZID=America/Indiana/Indianapolis:20210717T130000
DTEND;TZID=America/Indiana/Indianapolis:20210717T140000
DTSTAMP:20260421T222514
CREATED:20210609T135304Z
LAST-MODIFIED:20210715T142521Z
UID:10000041-1626526800-1626530400@www.ben-hur.com
SUMMARY:Behind the Scenes Tour - SOLD OUT
DESCRIPTION:Tickets must be purchased in advance. \n$10 per person | $7 LWSPS members
URL:https://www.ben-hur.com/event/behind-the-scenes-tour-2/
LOCATION:General Lew Wallace Study & Museum\, 200 Wallace Ave.\, Crawfordsville\, IN\, 47933\, United States
CATEGORIES:Tours
ORGANIZER;CN="Amanda McGuire":MAILTO:amcguire@ben-hur.com
END:VEVENT
BEGIN:VEVENT
DTSTART;TZID=America/Indiana/Indianapolis:20210717T153000
DTEND;TZID=America/Indiana/Indianapolis:20210717T163000
DTSTAMP:20260421T222514
CREATED:20210609T135620Z
LAST-MODIFIED:20210715T163303Z
UID:10000034-1626535800-1626539400@www.ben-hur.com
SUMMARY:Behind the Scenes Tour - SOLD OUT
DESCRIPTION:Tickets must be purchased in advance \n$10 per person | $7 LWSPS members
URL:https://www.ben-hur.com/event/behind-the-scenes-tour-3/
LOCATION:General Lew Wallace Study & Museum\, 200 Wallace Ave.\, Crawfordsville\, IN\, 47933\, United States
CATEGORIES:Tours
ORGANIZER;CN="Amanda McGuire":MAILTO:amcguire@ben-hur.com
END:VEVENT
BEGIN:VEVENT
DTSTART;TZID=America/Indiana/Indianapolis:20210918T100000
DTEND;TZID=America/Indiana/Indianapolis:20210918T163000
DTSTAMP:20260421T222514
CREATED:20210715T143334Z
LAST-MODIFIED:20210909T142524Z
UID:10000035-1631959200-1631982600@www.ben-hur.com
SUMMARY:Smithsonian Magazine Museum Day
DESCRIPTION:Free half-hour tours from 10 a.m. to 4:15 p.m. No tours will be started after 4:15 PM Eastern Time. \nVisitors must present ticket from Smithsonian Magazine website in exchange for admission. \n\n\nThe General Lew Wallace Study & Museum will open its doors free of charge to all Museum Day ticketholders on Saturday September 18\, 2021 as part of Smithsonian magazine’s 17th annual Museum Day\, a national celebration of boundless curiosity in which participating museums emulate the free admission policy at the Smithsonian Institution’s Washington DC-based museums. \n\n\n\nMuseum Day tickets will be available for download at Smithsonianmag.com/MuseumDay beginning August 18\, 2021. Visitors who present a Museum Day ticket will gain free entrance for two at participating venues on September 18\, 2021. One ticket is permitted per email address. A list of participating museums\, which will be continually updated as more museums continue to register\, can be found at Smithsonianmag.com/MuseumDay. \n\n\n\nThe annual event allows museums\, zoos\, and cultural centers from all 50 states to emulate the spirit of the Smithsonian Institution’s Washington\, D.C.-based facilities\, which offer free admission every day. This year’s event is sponsored by The Quaker Oats Company. \n\n\n\nMuseum Day goes beyond getting visitors through museum doors—it acts as a springboard to empower and help advance the hopes and ambitions of the public\, particularly school-aged children and those in underrepresented communities. It represents a national commitment to access\, equity and inclusion. \n\n\n\nWith many public spaces being shut down for a year or more\, Museum Day 2021 celebrates the reopening of museums after long closures due to the COVID-19 pandemic. This year’s theme\, Experience America\, represents the return to\, and resurgence of\, our country’s diverse cultural experiences\, in the safest possible way. While tickets will be free of charge\, participating museums will have safety precautions in place for this year’s event so guests can safely and comfortably enjoy their experience. \n\n\n\nThe General Lew Wallace Study & Museum’s current annual exhibit\, “Versatile Genius: Lew Wallace’s Creative Endeavors\,” is open in the Carriage House Interpretive Center Tuesday-Saturday 10 a.m.-5 p.m. free of charge. Museum staff encourages visitors to wear masks and maintain six feet social distancing. For more information\, contact Larry Paarlberg at 765-362-5769 or lpaarlberg@ben-hur.com.
URL:https://www.ben-hur.com/event/smithsonian-magazine-museum-day/
LOCATION:General Lew Wallace Study & Museum\, 200 Wallace Ave.\, Crawfordsville\, IN\, 47933\, United States
CATEGORIES:Tours
ORGANIZER;CN="Stephanie Cain":MAILTO:scain@ben-hur.com
END:VEVENT
BEGIN:VEVENT
DTSTART;TZID=America/Indiana/Indianapolis:20220917T100000
DTEND;TZID=America/Indiana/Indianapolis:20220917T160000
DTSTAMP:20260421T222514
CREATED:20220809T182722Z
LAST-MODIFIED:20220809T191907Z
UID:10000042-1663408800-1663430400@www.ben-hur.com
SUMMARY:Smithsonian Magazine Museum Day Live
DESCRIPTION:Museum Day is an annual celebration of boundless curiosity hosted by Smithsonian magazine. Participating museums and cultural institutions across the country provide free entry to anyone presenting a Museum Day ticket. Download ticket from the Event Website: https://www.smithsonianmag.com/museumday/museum-day-2022/
URL:https://www.ben-hur.com/event/smithsonian-magazine-museum-day-live/
LOCATION:General Lew Wallace Study & Museum\, 200 Wallace Ave.\, Crawfordsville\, IN\, 47933\, United States
CATEGORIES:Tours
ATTACH;FMTTYPE=image/jpeg:https://www.ben-hur.com/wp-content/uploads/2022/08/md22_social_media.jpg
ORGANIZER;CN="Stephanie Cain":MAILTO:scain@ben-hur.com
END:VEVENT
BEGIN:VEVENT
DTSTART;TZID=America/Indiana/Indianapolis:20220930T130000
DTEND;TZID=America/Indiana/Indianapolis:20220930T143000
DTSTAMP:20260421T222514
CREATED:20220810T161922Z
LAST-MODIFIED:20220810T161922Z
UID:10000029-1664542800-1664548200@www.ben-hur.com
SUMMARY:Field Trip: Collections Tour at IHS
DESCRIPTION:Friday\, September 30 – Behind the Scenes Tour – The Indiana Historical Society in Indianapolis will offer a Behind the Scenes look at what they do. Spots will be limited and reservations required. Visit the event link to reserve a spot. \nPlease note the Museum will be CLOSED on September 30\, as staff will be at the off-site event.
URL:https://www.ben-hur.com/event/field-trip-collections-tour-at-ihs/
CATEGORIES:Museum Closed,Tours
ORGANIZER;CN="Larry Paarlberg":MAILTO:lpaarlberg@ben-hur.com
END:VEVENT
END:VCALENDAR