BEGIN:VCALENDAR
VERSION:2.0
PRODID:-//General Lew Wallace Study &amp; Museum - ECPv6.15.20//NONSGML v1.0//EN
CALSCALE:GREGORIAN
METHOD:PUBLISH
X-WR-CALNAME:General Lew Wallace Study &amp; Museum
X-ORIGINAL-URL:https://www.ben-hur.com
X-WR-CALDESC:Events for General Lew Wallace Study &amp; Museum
REFRESH-INTERVAL;VALUE=DURATION:PT1H
X-Robots-Tag:noindex
X-PUBLISHED-TTL:PT1H
BEGIN:VTIMEZONE
TZID:America/Indiana/Indianapolis
BEGIN:DAYLIGHT
TZOFFSETFROM:-0500
TZOFFSETTO:-0400
TZNAME:EDT
DTSTART:20210314T070000
END:DAYLIGHT
BEGIN:STANDARD
TZOFFSETFROM:-0400
TZOFFSETTO:-0500
TZNAME:EST
DTSTART:20211107T060000
END:STANDARD
BEGIN:DAYLIGHT
TZOFFSETFROM:-0500
TZOFFSETTO:-0400
TZNAME:EDT
DTSTART:20220313T070000
END:DAYLIGHT
BEGIN:STANDARD
TZOFFSETFROM:-0400
TZOFFSETTO:-0500
TZNAME:EST
DTSTART:20221106T060000
END:STANDARD
BEGIN:DAYLIGHT
TZOFFSETFROM:-0500
TZOFFSETTO:-0400
TZNAME:EDT
DTSTART:20230312T070000
END:DAYLIGHT
BEGIN:STANDARD
TZOFFSETFROM:-0400
TZOFFSETTO:-0500
TZNAME:EST
DTSTART:20231105T060000
END:STANDARD
END:VTIMEZONE
BEGIN:VEVENT
DTSTART;TZID=America/Indiana/Indianapolis:20220929T190000
DTEND;TZID=America/Indiana/Indianapolis:20220929T200000
DTSTAMP:20260421T062123
CREATED:20220809T182859Z
LAST-MODIFIED:20220809T191823Z
UID:10000033-1664478000-1664481600@www.ben-hur.com
SUMMARY:Dr. Howard Miller Lecture Series: The Collections of the Indiana Historical Society
DESCRIPTION:Suzanne Hahn\, Vice President\, Archives and Library at the Indiana Historical Society. Suzanne will speak on The Collections of the Indiana Historical Society.  Since 1830\, The Indiana Historical Society has been collecting and preserving Indiana’s unique stories; bringing Hoosiers together in remembering and sharing the past—Including Lew and Susan Wallace. Suzanne will discuss not only how the Society has grown and refined its collection but also new collecting initiatives that will inspire future Hoosiers.
URL:https://www.ben-hur.com/event/dr-howard-miller-lecture-series-the-collections-of-the-indiana-historical-society/
LOCATION:St. John’s Episcopal Church Fellowship Hall\, 212 S Green St\, Crawfordsville\, 47933
CATEGORIES:Dr. Miller Lecture Series
ORGANIZER;CN="Larry Paarlberg":MAILTO:lpaarlberg@ben-hur.com
END:VEVENT
BEGIN:VEVENT
DTSTART;VALUE=DATE:20220930
DTEND;VALUE=DATE:20221001
DTSTAMP:20260421T062123
CREATED:20220810T162008Z
LAST-MODIFIED:20220810T163223Z
UID:10000021-1664496000-1664582399@www.ben-hur.com
SUMMARY:Museum Closed to Tours
DESCRIPTION:The Museum will be closed for an off-site event.
URL:https://www.ben-hur.com/event/museum-closed-to-tours/
LOCATION:General Lew Wallace Study & Museum\, 200 Wallace Ave.\, Crawfordsville\, IN\, 47933\, United States
CATEGORIES:Museum Closed
ATTACH;FMTTYPE=image/jpeg:https://www.ben-hur.com/wp-content/uploads/2022/08/Museum-Closed-1.jpg
ORGANIZER;CN="Larry Paarlberg":MAILTO:lpaarlberg@ben-hur.com
END:VEVENT
BEGIN:VEVENT
DTSTART;TZID=America/Indiana/Indianapolis:20220930T130000
DTEND;TZID=America/Indiana/Indianapolis:20220930T143000
DTSTAMP:20260421T062123
CREATED:20220810T161922Z
LAST-MODIFIED:20220810T161922Z
UID:10000029-1664542800-1664548200@www.ben-hur.com
SUMMARY:Field Trip: Collections Tour at IHS
DESCRIPTION:Friday\, September 30 – Behind the Scenes Tour – The Indiana Historical Society in Indianapolis will offer a Behind the Scenes look at what they do. Spots will be limited and reservations required. Visit the event link to reserve a spot. \nPlease note the Museum will be CLOSED on September 30\, as staff will be at the off-site event.
URL:https://www.ben-hur.com/event/field-trip-collections-tour-at-ihs/
LOCATION:IN
CATEGORIES:Museum Closed,Tours
ORGANIZER;CN="Larry Paarlberg":MAILTO:lpaarlberg@ben-hur.com
END:VEVENT
END:VCALENDAR