BEGIN:VCALENDAR
VERSION:2.0
PRODID:-//General Lew Wallace Study &amp; Museum - ECPv6.15.20//NONSGML v1.0//EN
CALSCALE:GREGORIAN
METHOD:PUBLISH
X-WR-CALNAME:General Lew Wallace Study &amp; Museum
X-ORIGINAL-URL:https://www.ben-hur.com
X-WR-CALDESC:Events for General Lew Wallace Study &amp; Museum
REFRESH-INTERVAL;VALUE=DURATION:PT1H
X-Robots-Tag:noindex
X-PUBLISHED-TTL:PT1H
BEGIN:VTIMEZONE
TZID:America/Indiana/Indianapolis
BEGIN:DAYLIGHT
TZOFFSETFROM:-0500
TZOFFSETTO:-0400
TZNAME:EDT
DTSTART:20220313T070000
END:DAYLIGHT
BEGIN:STANDARD
TZOFFSETFROM:-0400
TZOFFSETTO:-0500
TZNAME:EST
DTSTART:20221106T060000
END:STANDARD
BEGIN:DAYLIGHT
TZOFFSETFROM:-0500
TZOFFSETTO:-0400
TZNAME:EDT
DTSTART:20230312T070000
END:DAYLIGHT
BEGIN:STANDARD
TZOFFSETFROM:-0400
TZOFFSETTO:-0500
TZNAME:EST
DTSTART:20231105T060000
END:STANDARD
BEGIN:DAYLIGHT
TZOFFSETFROM:-0500
TZOFFSETTO:-0400
TZNAME:EDT
DTSTART:20240310T070000
END:DAYLIGHT
BEGIN:STANDARD
TZOFFSETFROM:-0400
TZOFFSETTO:-0500
TZNAME:EST
DTSTART:20241103T060000
END:STANDARD
END:VTIMEZONE
BEGIN:VEVENT
DTSTART;TZID=America/Indiana/Indianapolis:20231026T190000
DTEND;TZID=America/Indiana/Indianapolis:20231026T210000
DTSTAMP:20260423T140329
CREATED:20230809T191622Z
LAST-MODIFIED:20230926T181647Z
UID:10000068-1698346800-1698354000@www.ben-hur.com
SUMMARY:Dr. Howard Miller Lecture Series
DESCRIPTION:Little Orphant Annie – Discovery\, Preservation\, and Restoration \n  \nEric Grayson is a nationally renowned film preservation expert\, specializing in silent movies. Eric will be presenting the 1918 original film of Little Orphant Annie. This unusual surviving film features a rare film appearance by James Whitcomb Riley – the Hoosier poet and close friend of Lew Wallace. Eric will discuss the films discovery\, preservation and restoration.
URL:https://www.ben-hur.com/event/dr-howard-miller-lecture-series-3/
LOCATION:General Lew Wallace Study & Museum\, 200 Wallace Ave.\, Crawfordsville\, IN\, 47933\, United States
CATEGORIES:Dr. Miller Lecture Series,Programming
ATTACH;FMTTYPE=image/jpeg:https://www.ben-hur.com/wp-content/uploads/2023/09/Lecture-Series-October-26-2023.jpg
ORGANIZER;CN="Larry Paarlberg":MAILTO:lpaarlberg@ben-hur.com
END:VEVENT
END:VCALENDAR