BEGIN:VCALENDAR
VERSION:2.0
PRODID:-//General Lew Wallace Study &amp; Museum - ECPv6.15.20//NONSGML v1.0//EN
CALSCALE:GREGORIAN
METHOD:PUBLISH
X-ORIGINAL-URL:https://www.ben-hur.com
X-WR-CALDESC:Events for General Lew Wallace Study &amp; Museum
REFRESH-INTERVAL;VALUE=DURATION:PT1H
X-Robots-Tag:noindex
X-PUBLISHED-TTL:PT1H
BEGIN:VTIMEZONE
TZID:America/Indiana/Indianapolis
BEGIN:DAYLIGHT
TZOFFSETFROM:-0500
TZOFFSETTO:-0400
TZNAME:EDT
DTSTART:20230312T070000
END:DAYLIGHT
BEGIN:STANDARD
TZOFFSETFROM:-0400
TZOFFSETTO:-0500
TZNAME:EST
DTSTART:20231105T060000
END:STANDARD
BEGIN:DAYLIGHT
TZOFFSETFROM:-0500
TZOFFSETTO:-0400
TZNAME:EDT
DTSTART:20240310T070000
END:DAYLIGHT
BEGIN:STANDARD
TZOFFSETFROM:-0400
TZOFFSETTO:-0500
TZNAME:EST
DTSTART:20241103T060000
END:STANDARD
BEGIN:DAYLIGHT
TZOFFSETFROM:-0500
TZOFFSETTO:-0400
TZNAME:EDT
DTSTART:20250309T070000
END:DAYLIGHT
BEGIN:STANDARD
TZOFFSETFROM:-0400
TZOFFSETTO:-0500
TZNAME:EST
DTSTART:20251102T060000
END:STANDARD
END:VTIMEZONE
BEGIN:VEVENT
DTSTART;TZID=America/Indiana/Indianapolis:20240321T190000
DTEND;TZID=America/Indiana/Indianapolis:20240321T203000
DTSTAMP:20260423T053739
CREATED:20240209T180002Z
LAST-MODIFIED:20240209T204353Z
UID:10000069-1711047600-1711053000@www.ben-hur.com
SUMMARY:Dr. Howard Miller Lecture Series - Reconstructing Henry S. Lane: Redefining Political Legacy Amidst Reconstruction Ambiguity by Owen Bennett
DESCRIPTION:  \nDr. Howard Miller Lecture Series at the General Lew Wallace Study & Museum presents… \nReconstructing Henry S. Lane: Redefining Political Legacy Amidst Reconstruction Ambiguity. \nOwen Bennett\, Assistant Director of the Montgomery County Historical Society\, will give a lecture on the vague and misleading historiography of Henry S. Lane’s role during the era of reconstruction following the Civil War. Lane’s active participation therein has been largely disregarded in previous narratives. Additionally\, Owen will discuss the enduring political legacy of Lane and the policies he was involved in.
URL:https://www.ben-hur.com/event/dr-howard-miller-lecture-series-reconstructing-henry-s-lane-redefining-political-legacy-amidst-reconstruction-ambiguity/
LOCATION:General Lew Wallace Study & Museum\, 200 Wallace Ave.\, Crawfordsville\, IN\, 47933\, United States
CATEGORIES:Dr. Miller Lecture Series
ATTACH;FMTTYPE=image/png:https://www.ben-hur.com/wp-content/uploads/2024/02/Owen-Bennett-Lecture.png
ORGANIZER;CN="Thomas Meeks":MAILTO:tmeeks@ben-hur.com
END:VEVENT
END:VCALENDAR