BEGIN:VCALENDAR
VERSION:2.0
PRODID:-//General Lew Wallace Study &amp; Museum - ECPv6.15.20//NONSGML v1.0//EN
CALSCALE:GREGORIAN
METHOD:PUBLISH
X-ORIGINAL-URL:https://www.ben-hur.com
X-WR-CALDESC:Events for General Lew Wallace Study &amp; Museum
REFRESH-INTERVAL;VALUE=DURATION:PT1H
X-Robots-Tag:noindex
X-PUBLISHED-TTL:PT1H
BEGIN:VTIMEZONE
TZID:America/Indiana/Indianapolis
BEGIN:DAYLIGHT
TZOFFSETFROM:-0500
TZOFFSETTO:-0400
TZNAME:EDT
DTSTART:20230312T070000
END:DAYLIGHT
BEGIN:STANDARD
TZOFFSETFROM:-0400
TZOFFSETTO:-0500
TZNAME:EST
DTSTART:20231105T060000
END:STANDARD
BEGIN:DAYLIGHT
TZOFFSETFROM:-0500
TZOFFSETTO:-0400
TZNAME:EDT
DTSTART:20240310T070000
END:DAYLIGHT
BEGIN:STANDARD
TZOFFSETFROM:-0400
TZOFFSETTO:-0500
TZNAME:EST
DTSTART:20241103T060000
END:STANDARD
BEGIN:DAYLIGHT
TZOFFSETFROM:-0500
TZOFFSETTO:-0400
TZNAME:EDT
DTSTART:20250309T070000
END:DAYLIGHT
BEGIN:STANDARD
TZOFFSETFROM:-0400
TZOFFSETTO:-0500
TZNAME:EST
DTSTART:20251102T060000
END:STANDARD
END:VTIMEZONE
BEGIN:VEVENT
DTSTART;TZID=America/Indiana/Indianapolis:20240425T190000
DTEND;TZID=America/Indiana/Indianapolis:20240425T203000
DTSTAMP:20260423T084240
CREATED:20240209T201608Z
LAST-MODIFIED:20240209T204324Z
UID:10000070-1714071600-1714077000@www.ben-hur.com
SUMMARY:Dr. Howard Miller Lecture Series - The Man Who Saved Cincinnati by Peter Bronson
DESCRIPTION:Dr. Howard Miller Lecture Series at the General Lew Wallace Study & Museum presents… \nThe Man Who Saved Cincinnati \nPeter Bronson is a newsman\, editor\, magazine writer and author. He has written eight books\, including The Man Who Saved Cincinnati (2023)\, Not in Our Town (2022)\, and Forbidden Fruit (2020). He was an editor and columnist for The Cincinnati Enquirer for nearly 20 years. Bronson will discuss Lew Wallace’s role in defending the Queen city against Confederate attack\, the first African Americans employed in defense of the Union known as the Black Brigade\, the Ohio Squirrel Hunter volunteers\, and much more.
URL:https://www.ben-hur.com/event/dr-howard-miller-lecture-series-the-man-who-saved-cincinnati-by-peter-bronson/
LOCATION:General Lew Wallace Study & Museum\, 200 Wallace Ave.\, Crawfordsville\, IN\, 47933\, United States
CATEGORIES:Dr. Miller Lecture Series
ATTACH;FMTTYPE=image/png:https://www.ben-hur.com/wp-content/uploads/2024/02/Peter-Bronson-Lecture.png
ORGANIZER;CN="Thomas Meeks":MAILTO:tmeeks@ben-hur.com
END:VEVENT
END:VCALENDAR